BEGIN:VCALENDAR
VERSION:2.0
METHOD:PUBLISH
BEGIN:VEVENT
DTSTART:20260312T120000Z
DTEND:20260314T180000Z
LOCATION:Leesburg, FL 34748
TRANSP: OPAQUE
SEQUENCE:0
UID:
DTSTAMP:20260424T012414Z
SUMMARY:Leesburg Estate! Home is FULL!!!
DESCRIPTION:Leesburg Estate! Home is FULL!!! Garner Estate Sales 
UID:1777015454
STREET-ADDRESS:See website
POSTAL-CODE:34748
LOCALITY:Leesburg
REGION:ABBREV=FL
COUNTRY:ABBREV=US;ABBREV=USA:United States
URL;TYPE=Event Listing:https://estatesales.org/estate-sales/fl/leesburg/34748/leesburg-estate-home-is-full-2427782
PRIORITY:1
CLASS:PUBLIC
SEQUENCE:0
STATUS:CONFIRMED
TRANSP:OPAQUE
END:VEVENT
END:VCALENDAR
