BEGIN:VCALENDAR
VERSION:2.0
METHOD:PUBLISH
BEGIN:VEVENT
DTSTART:20210312T150000Z
DTEND:20210313T190000Z
LOCATION:Everett, WA 98201
TRANSP: OPAQUE
SEQUENCE:0
UID:
DTSTAMP:20260423T200936Z
SUMMARY:**Girlfriends Everett Estate Sale**
DESCRIPTION:**Girlfriends Everett Estate Sale** Girlfriends Estate Sales INC 
UID:1776996576
STREET-ADDRESS:See website
POSTAL-CODE:98201
LOCALITY:Everett
REGION:ABBREV=WA
COUNTRY:ABBREV=US;ABBREV=USA:United States
URL;TYPE=Event Listing:https://estatesales.org/estate-sales/wa/everett/98201/girlfriends-everett-estate-sale-1858839
PRIORITY:1
CLASS:PUBLIC
SEQUENCE:0
STATUS:CONFIRMED
TRANSP:OPAQUE
END:VEVENT
END:VCALENDAR
