BEGIN:VCALENDAR
VERSION:2.0
METHOD:PUBLISH
BEGIN:VEVENT
DTSTART:20200312T133000Z
DTEND:20200314T180000Z
LOCATION:Nashville, TN 37216
TRANSP: OPAQUE
SEQUENCE:0
UID:
DTSTAMP:20260423T140000Z
SUMMARY:Estate Sale Nashville
DESCRIPTION:Estate Sale Nashville Auction 
UID:1776974400
STREET-ADDRESS:See website
POSTAL-CODE:37216
LOCALITY:Nashville
REGION:ABBREV=TN
COUNTRY:ABBREV=US;ABBREV=USA:United States
URL;TYPE=Event Listing:https://estatesales.org/estate-sales/tn/nashville/37216/estate-sale-nashville-1771913
PRIORITY:1
CLASS:PUBLIC
SEQUENCE:0
STATUS:CONFIRMED
TRANSP:OPAQUE
END:VEVENT
END:VCALENDAR
