BEGIN:VCALENDAR
VERSION:2.0
METHOD:PUBLISH
BEGIN:VEVENT
DTSTART:20200312T130000Z
DTEND:20200314T190000Z
LOCATION:Ocala, FL 34472
TRANSP: OPAQUE
SEQUENCE:0
UID:
DTSTAMP:20260420T060958Z
SUMMARY:Nice sale in Ocala 
DESCRIPTION:Nice sale in Ocala  Justice League Estate Sales 
UID:1776686998
STREET-ADDRESS:See website
POSTAL-CODE:34472
LOCALITY:Ocala
REGION:ABBREV=FL
COUNTRY:ABBREV=US;ABBREV=USA:United States
URL;TYPE=Event Listing:https://estatesales.org/estate-sales/fl/ocala/34472/nice-sale-in-ocala-1766285
PRIORITY:1
CLASS:PUBLIC
SEQUENCE:0
STATUS:CONFIRMED
TRANSP:OPAQUE
END:VEVENT
END:VCALENDAR
