BEGIN:VCALENDAR
VERSION:2.0
METHOD:PUBLISH
BEGIN:VEVENT
DTSTART:20160312T160000Z
DTEND:20160313T210000Z
LOCATION:Menomonee Falls, WI 53051
TRANSP: OPAQUE
SEQUENCE:0
UID:
DTSTAMP:20260420T030235Z
SUMMARY:Menomonee Falls Estate Sale-Quality Stuff!!
DESCRIPTION:Menomonee Falls Estate Sale-Quality Stuff!! All in the Family Estate Sales 
UID:1776675755
STREET-ADDRESS:See website
POSTAL-CODE:53051
LOCALITY:Menomonee Falls
REGION:ABBREV=WI
COUNTRY:ABBREV=US;ABBREV=USA:United States
URL;TYPE=Event Listing:https://estatesales.org/estate-sales/wi/menomonee-falls/53051/menomonee-falls-estate-salequality-stuff-759495
PRIORITY:1
CLASS:PUBLIC
SEQUENCE:0
STATUS:CONFIRMED
TRANSP:OPAQUE
END:VEVENT
END:VCALENDAR
