BEGIN:VCALENDAR
VERSION:2.0
METHOD:PUBLISH
BEGIN:VEVENT
DTSTART:20230311T160000Z
DTEND:20230312T210000Z
LOCATION:Gresham, OR 97030
TRANSP: OPAQUE
SEQUENCE:0
UID:
DTSTAMP:20260424T133513Z
SUMMARY:Gresham Estate Sale
DESCRIPTION:Gresham Estate Sale Clean Sweep Estate Services, INC 
UID:1777059313
STREET-ADDRESS:See website
POSTAL-CODE:97030
LOCALITY:Gresham
REGION:ABBREV=OR
COUNTRY:ABBREV=US;ABBREV=USA:United States
URL;TYPE=Event Listing:https://estatesales.org/estate-sales/or/gresham/97030/gresham-estate-sale-2155641
PRIORITY:1
CLASS:PUBLIC
SEQUENCE:0
STATUS:CONFIRMED
TRANSP:OPAQUE
END:VEVENT
END:VCALENDAR
