BEGIN:VCALENDAR
VERSION:2.0
METHOD:PUBLISH
BEGIN:VEVENT
DTSTART:20170311T130000Z
DTEND:20170313T210000Z
LOCATION:Athens, GA 30606
TRANSP: OPAQUE
SEQUENCE:0
UID:
DTSTAMP:20260425T102707Z
SUMMARY:Furnish your entire home with this collection
DESCRIPTION:Furnish your entire home with this collection Transitioning America 
UID:1777134427
STREET-ADDRESS:See website
POSTAL-CODE:30606
LOCALITY:Athens
REGION:ABBREV=GA
COUNTRY:ABBREV=US;ABBREV=USA:United States
URL;TYPE=Event Listing:https://estatesales.org/estate-sales/ga/athens/30606/furnish-your-entire-home-with-1085047
PRIORITY:1
CLASS:PUBLIC
SEQUENCE:0
STATUS:CONFIRMED
TRANSP:OPAQUE
END:VEVENT
END:VCALENDAR
