BEGIN:VCALENDAR
VERSION:2.0
METHOD:PUBLISH
BEGIN:VEVENT
DTSTART:20160311T183000Z
DTEND:20160311T080000Z
LOCATION:San Bernardino, CA 92405
TRANSP: OPAQUE
SEQUENCE:0
UID:
DTSTAMP:20260424T104716Z
SUMMARY:Abandoned Property Bulk Sale
DESCRIPTION:Abandoned Property Bulk Sale Cal Auctions & Estate Sales 
UID:1777049236
STREET-ADDRESS:See website
POSTAL-CODE:92405
LOCALITY:San Bernardino
REGION:ABBREV=CA
COUNTRY:ABBREV=US;ABBREV=USA:United States
URL;TYPE=Event Listing:https://estatesales.org/estate-sales/ca/san-bernardino/92405/abandoned-property-bulk-sale-785139
PRIORITY:1
CLASS:PUBLIC
SEQUENCE:0
STATUS:CONFIRMED
TRANSP:OPAQUE
END:VEVENT
END:VCALENDAR
