BEGIN:VCALENDAR
VERSION:2.0
METHOD:PUBLISH
BEGIN:VEVENT
DTSTART:20160311T140000Z
DTEND:20160313T220000Z
LOCATION:Sarasota, FL 34231
TRANSP: OPAQUE
SEQUENCE:0
UID:
DTSTAMP:20260423T090359Z
SUMMARY:Magnificent Waterfront Estate Sale
DESCRIPTION:Magnificent Waterfront Estate Sale Antiques and Chatchkes 
UID:1776956639
STREET-ADDRESS:See website
POSTAL-CODE:34231
LOCALITY:Sarasota
REGION:ABBREV=FL
COUNTRY:ABBREV=US;ABBREV=USA:United States
URL;TYPE=Event Listing:https://estatesales.org/estate-sales/fl/sarasota/34231/magnificent-waterfront-estate-sale-784407
PRIORITY:1
CLASS:PUBLIC
SEQUENCE:0
STATUS:CONFIRMED
TRANSP:OPAQUE
END:VEVENT
END:VCALENDAR
