BEGIN:VCALENDAR
VERSION:2.0
METHOD:PUBLISH
BEGIN:VEVENT
DTSTART:20260310T120000Z
DTEND:20260311T180000Z
LOCATION:The Villages, FL 32162
TRANSP: OPAQUE
SEQUENCE:0
UID:
DTSTAMP:20260424T012414Z
SUMMARY:Village of Amelia! Two Day Sale! Lots of Furniture!
DESCRIPTION:Village of Amelia! Two Day Sale! Lots of Furniture! Garner Estate Sales 
UID:1777015454
STREET-ADDRESS:See website
POSTAL-CODE:32162
LOCALITY:The Villages
REGION:ABBREV=FL
COUNTRY:ABBREV=US;ABBREV=USA:United States
URL;TYPE=Event Listing:https://estatesales.org/estate-sales/fl/the-villages/32162/village-of-amelia-two-day-2427847
PRIORITY:1
CLASS:PUBLIC
SEQUENCE:0
STATUS:CONFIRMED
TRANSP:OPAQUE
END:VEVENT
END:VCALENDAR
