BEGIN:VCALENDAR
VERSION:2.0
METHOD:PUBLISH
BEGIN:VEVENT
DTSTART:20230310T140000Z
DTEND:20230312T180000Z
LOCATION:Absecon, NJ 08205
TRANSP: OPAQUE
SEQUENCE:0
UID:
DTSTAMP:20260420T070150Z
SUMMARY:Willow Tree Estate Sales in Smithville - Exquisite home!
DESCRIPTION:Willow Tree Estate Sales in Smithville - Exquisite home! Willow Tree Estate Sales 
UID:1776690110
STREET-ADDRESS:See website
POSTAL-CODE:08205
LOCALITY:Absecon
REGION:ABBREV=NJ
COUNTRY:ABBREV=US;ABBREV=USA:United States
URL;TYPE=Event Listing:https://estatesales.org/estate-sales/nj/absecon/08205/willow-tree-estate-sales-in-2144155
PRIORITY:1
CLASS:PUBLIC
SEQUENCE:0
STATUS:CONFIRMED
TRANSP:OPAQUE
END:VEVENT
END:VCALENDAR
