BEGIN:VCALENDAR
VERSION:2.0
METHOD:PUBLISH
BEGIN:VEVENT
DTSTART:20170310T140000Z
DTEND:20170311T210000Z
LOCATION:Saint Ann, MO 63074
TRANSP: OPAQUE
SEQUENCE:0
UID:
DTSTAMP:20260419T105835Z
SUMMARY:St. Ann Estate Sale by Pennies In Your Pocket
DESCRIPTION:St. Ann Estate Sale by Pennies In Your Pocket Pennies In Your Pocket Estate Sale and Appraisal Services 
UID:1776617915
STREET-ADDRESS:See website
POSTAL-CODE:63074
LOCALITY:Saint Ann
REGION:ABBREV=MO
COUNTRY:ABBREV=US;ABBREV=USA:United States
URL;TYPE=Event Listing:https://estatesales.org/estate-sales/mo/saint-ann/63074/st-ann-estate-sale-by-1099751
PRIORITY:1
CLASS:PUBLIC
SEQUENCE:0
STATUS:CONFIRMED
TRANSP:OPAQUE
END:VEVENT
END:VCALENDAR
