BEGIN:VCALENDAR
VERSION:2.0
METHOD:PUBLISH
BEGIN:VEVENT
DTSTART:20170310T140000Z
DTEND:20170311T210000Z
LOCATION:Saint Louis, MO 63122
TRANSP: OPAQUE
SEQUENCE:0
UID:
DTSTAMP:20260419T105905Z
SUMMARY:Kirkwood Estate Sale by Pennies In Your Pocket
DESCRIPTION:Kirkwood Estate Sale by Pennies In Your Pocket Pennies In Your Pocket Estate Sale and Appraisal Services 
UID:1776617945
STREET-ADDRESS:See website
POSTAL-CODE:63122
LOCALITY:Saint Louis
REGION:ABBREV=MO
COUNTRY:ABBREV=US;ABBREV=USA:United States
URL;TYPE=Event Listing:https://estatesales.org/estate-sales/mo/saint-louis/63122/kirkwood-estate-sale-by-pennies-1098891
PRIORITY:1
CLASS:PUBLIC
SEQUENCE:0
STATUS:CONFIRMED
TRANSP:OPAQUE
END:VEVENT
END:VCALENDAR
