BEGIN:VCALENDAR
VERSION:2.0
METHOD:PUBLISH
BEGIN:VEVENT
DTSTART:20250309T160000Z
DTEND:20250310T190000Z
LOCATION:Portsmouth, VA 23707
TRANSP: OPAQUE
SEQUENCE:0
UID:
DTSTAMP:20260421T032516Z
SUMMARY:COLONEL'S ESTATE SALE SUNDAY MARCH 9, 12:00 NOON - 4:00 PM MONDAY MARCH 10, 10:00 AM - 3:00 PM
DESCRIPTION:COLONEL'S ESTATE SALE SUNDAY MARCH 9, 12:00 NOON - 4:00 PM MONDAY MARCH 10, 10:00 AM - 3:00 PM Randy's Auction Gallery Ltd. 
UID:1776763516
STREET-ADDRESS:See website
POSTAL-CODE:23707
LOCALITY:Portsmouth
REGION:ABBREV=VA
COUNTRY:ABBREV=US;ABBREV=USA:United States
URL;TYPE=Event Listing:https://estatesales.org/estate-sales/va/portsmouth/23707/colonels-estate-sale-sunday-march-2365201
PRIORITY:1
CLASS:PUBLIC
SEQUENCE:0
STATUS:CONFIRMED
TRANSP:OPAQUE
END:VEVENT
END:VCALENDAR
