BEGIN:VCALENDAR
VERSION:2.0
METHOD:PUBLISH
BEGIN:VEVENT
DTSTART:20240309T160000Z
DTEND:20240310T200000Z
LOCATION:Grand Cane, LA 71032
TRANSP: OPAQUE
SEQUENCE:0
UID:
DTSTAMP:20260425T162711Z
SUMMARY:Great Finds in Grand Cane
DESCRIPTION:Great Finds in Grand Cane Desoto Barnyard & More Estate Sales 
UID:1777156031
STREET-ADDRESS:See website
POSTAL-CODE:71032
LOCALITY:Grand Cane
REGION:ABBREV=LA
COUNTRY:ABBREV=US;ABBREV=USA:United States
URL;TYPE=Event Listing:https://estatesales.org/estate-sales/la/grand-cane-/71032/great-finds-in-grand-cane-2289217
PRIORITY:1
CLASS:PUBLIC
SEQUENCE:0
STATUS:CONFIRMED
TRANSP:OPAQUE
END:VEVENT
END:VCALENDAR
