BEGIN:VCALENDAR
VERSION:2.0
METHOD:PUBLISH
BEGIN:VEVENT
DTSTART:20230309T170000Z
DTEND:20230311T233000Z
LOCATION:Bakersfield, CA 93304
TRANSP: OPAQUE
SEQUENCE:0
UID:
DTSTAMP:20260422T062334Z
SUMMARY:Major jam packed little house online shopper
DESCRIPTION:Major jam packed little house online shopper All About You Liquidation 
UID:1776860614
STREET-ADDRESS:See website
POSTAL-CODE:93304
LOCALITY:Bakersfield
REGION:ABBREV=CA
COUNTRY:ABBREV=US;ABBREV=USA:United States
URL;TYPE=Event Listing:https://estatesales.org/estate-sales/ca/bakersfield/93304/major-jam-packed-little-house-2154369
PRIORITY:1
CLASS:PUBLIC
SEQUENCE:0
STATUS:CONFIRMED
TRANSP:OPAQUE
END:VEVENT
END:VCALENDAR
