BEGIN:VCALENDAR
VERSION:2.0
METHOD:PUBLISH
BEGIN:VEVENT
DTSTART:20260308T163000Z
DTEND:20260308T233000Z
LOCATION:Tarzana, CA 91356
TRANSP: OPAQUE
SEQUENCE:0
UID:
DTSTAMP:20260423T231203Z
SUMMARY:FINAL DAY BLOWOUT 60-75% OFF TARZANA ESTATE: FINE FURNITURE, WOMEN'S APPAREL, ART & MORE
DESCRIPTION:FINAL DAY BLOWOUT 60-75% OFF TARZANA ESTATE: FINE FURNITURE, WOMEN'S APPAREL, ART & MORE MOORADIAN LIQUIDATIONS 
UID:1777007523
STREET-ADDRESS:See website
POSTAL-CODE:91356
LOCALITY:Tarzana
REGION:ABBREV=CA
COUNTRY:ABBREV=US;ABBREV=USA:United States
URL;TYPE=Event Listing:https://estatesales.org/estate-sales/ca/tarzana/91356/final-day-blowout-6075-off-2428473
PRIORITY:1
CLASS:PUBLIC
SEQUENCE:0
STATUS:CONFIRMED
TRANSP:OPAQUE
END:VEVENT
END:VCALENDAR
