BEGIN:VCALENDAR
VERSION:2.0
METHOD:PUBLISH
BEGIN:VEVENT
DTSTART:20260308T140000Z
DTEND:20260309T180000Z
LOCATION:Norco, CA 92860
TRANSP: OPAQUE
SEQUENCE:0
UID:
DTSTAMP:20260422T122516Z
SUMMARY:Grasons Estate Specialists Last Minute Norco Estate Sale
DESCRIPTION:Grasons Estate Specialists Last Minute Norco Estate Sale Grasons Co Estate Specialists 
UID:1776882316
STREET-ADDRESS:See website
POSTAL-CODE:92860
LOCALITY:Norco
REGION:ABBREV=CA
COUNTRY:ABBREV=US;ABBREV=USA:United States
URL;TYPE=Event Listing:https://estatesales.org/estate-sales/ca/norco/92860/grasons-estate-specialists-last-minute-2428259
PRIORITY:1
CLASS:PUBLIC
SEQUENCE:0
STATUS:CONFIRMED
TRANSP:OPAQUE
END:VEVENT
END:VCALENDAR
