BEGIN:VCALENDAR
VERSION:2.0
METHOD:PUBLISH
BEGIN:VEVENT
DTSTART:20240308T150000Z
DTEND:20240309T210000Z
LOCATION:Richlands, NC 28574
TRANSP: OPAQUE
SEQUENCE:0
UID:
DTSTAMP:20260420T041750Z
SUMMARY:TFR Productions Estate Sale, Richlands, NC
DESCRIPTION:TFR Productions Estate Sale, Richlands, NC The Flipping Rooster 
UID:1776680270
STREET-ADDRESS:See website
POSTAL-CODE:28574
LOCALITY:Richlands
REGION:ABBREV=NC
COUNTRY:ABBREV=US;ABBREV=USA:United States
URL;TYPE=Event Listing:https://estatesales.org/estate-sales/nc/richlands/28574/tfr-productions-estate-sale-richlands-2286253
PRIORITY:1
CLASS:PUBLIC
SEQUENCE:0
STATUS:CONFIRMED
TRANSP:OPAQUE
END:VEVENT
END:VCALENDAR
