BEGIN:VCALENDAR
VERSION:2.0
METHOD:PUBLISH
BEGIN:VEVENT
DTSTART:20240308T150000Z
DTEND:20240309T210000Z
LOCATION:Hampton, GA 30228
TRANSP: OPAQUE
SEQUENCE:0
UID:
DTSTAMP:20260420T161956Z
SUMMARY:50% OFF. Everything You Need Is Here, Dining-Living-Bedrooms-Music-Tools-Lawn-Clothing and More
DESCRIPTION:50% OFF. Everything You Need Is Here, Dining-Living-Bedrooms-Music-Tools-Lawn-Clothing and More Rapid Estate Sales / Auctions 
UID:1776723596
STREET-ADDRESS:See website
POSTAL-CODE:30228
LOCALITY:Hampton
REGION:ABBREV=GA
COUNTRY:ABBREV=US;ABBREV=USA:United States
URL;TYPE=Event Listing:https://estatesales.org/estate-sales/ga/hampton/30228/50-off-everything-you-need-2284633
PRIORITY:1
CLASS:PUBLIC
SEQUENCE:0
STATUS:CONFIRMED
TRANSP:OPAQUE
END:VEVENT
END:VCALENDAR
