BEGIN:VCALENDAR
VERSION:2.0
METHOD:PUBLISH
BEGIN:VEVENT
DTSTART:20170308T140000Z
DTEND:20170311T180000Z
LOCATION:Safety Harbor, FL 34695
TRANSP: OPAQUE
SEQUENCE:0
UID:
DTSTAMP:20260425T100856Z
SUMMARY:HALF PRICE DAY-Estate Sale in Safety Harbor-LOTS of vintage items
DESCRIPTION:HALF PRICE DAY-Estate Sale in Safety Harbor-LOTS of vintage items Rose Estate Sales, LLC 
UID:1777133336
STREET-ADDRESS:See website
POSTAL-CODE:34695
LOCALITY:Safety Harbor
REGION:ABBREV=FL
COUNTRY:ABBREV=US;ABBREV=USA:United States
URL;TYPE=Event Listing:https://estatesales.org/estate-sales/fl/safety-harbor/34695/half-price-dayestate-sale-in-1098447
PRIORITY:1
CLASS:PUBLIC
SEQUENCE:0
STATUS:CONFIRMED
TRANSP:OPAQUE
END:VEVENT
END:VCALENDAR
