BEGIN:VCALENDAR
VERSION:2.0
METHOD:PUBLISH
BEGIN:VEVENT
DTSTART:20140308T130000Z
DTEND:20140309T200000Z
LOCATION:Durham, NC 27704
TRANSP: OPAQUE
SEQUENCE:0
UID:
DTSTAMP:20260419T082547Z
SUMMARY:ESTATE TAG SALE
DESCRIPTION:ESTATE TAG SALE Steve Minor Estate Liquidations and Appraisals 
UID:1776608747
STREET-ADDRESS:See website
POSTAL-CODE:27704
LOCALITY:Durham
REGION:ABBREV=NC
COUNTRY:ABBREV=US;ABBREV=USA:United States
URL;TYPE=Event Listing:https://estatesales.org/estate-sales/nc/durham/27704/estate-tag-sale-360389
PRIORITY:1
CLASS:PUBLIC
SEQUENCE:0
STATUS:CONFIRMED
TRANSP:OPAQUE
END:VEVENT
END:VCALENDAR
