BEGIN:VCALENDAR
VERSION:2.0
METHOD:PUBLISH
BEGIN:VEVENT
DTSTART:20260307T170000Z
DTEND:20260308T210000Z
LOCATION:Troutdale, OR 97060
TRANSP: OPAQUE
SEQUENCE:0
UID:
DTSTAMP:20260424T012414Z
SUMMARY:Troutdale Sci-Fi book collector glass fusion Estate Sale
DESCRIPTION:Troutdale Sci-Fi book collector glass fusion Estate Sale TBARB's Estate and Moving Sales 
UID:1777015454
STREET-ADDRESS:See website
POSTAL-CODE:97060
LOCALITY:Troutdale
REGION:ABBREV=OR
COUNTRY:ABBREV=US;ABBREV=USA:United States
URL;TYPE=Event Listing:https://estatesales.org/estate-sales/or/troutdale/97060/troutdale-scifi-book-collector-glass-2428281
PRIORITY:1
CLASS:PUBLIC
SEQUENCE:0
STATUS:CONFIRMED
TRANSP:OPAQUE
END:VEVENT
END:VCALENDAR
