BEGIN:VCALENDAR
VERSION:2.0
METHOD:PUBLISH
BEGIN:VEVENT
DTSTART:20260307T150000Z
DTEND:20260307T190000Z
LOCATION:Cherry Hill, NJ 08003
TRANSP: OPAQUE
SEQUENCE:0
UID:
DTSTAMP:20260420T082700Z
SUMMARY:Vintage & Collectibles Estate Sale by Ben Hersh (Furniture Pre-Sale!)
DESCRIPTION:Vintage & Collectibles Estate Sale by Ben Hersh (Furniture Pre-Sale!) Ben Hersh Estate Sales 
UID:1776695220
STREET-ADDRESS:See website
POSTAL-CODE:08003
LOCALITY:Cherry Hill
REGION:ABBREV=NJ
COUNTRY:ABBREV=US;ABBREV=USA:United States
URL;TYPE=Event Listing:https://estatesales.org/estate-sales/nj/cherry-hill/08003/ben-hersh-cherry-hill-estate-2427802
PRIORITY:1
CLASS:PUBLIC
SEQUENCE:0
STATUS:CONFIRMED
TRANSP:OPAQUE
END:VEVENT
END:VCALENDAR
