BEGIN:VCALENDAR
VERSION:2.0
METHOD:PUBLISH
BEGIN:VEVENT
DTSTART:20260307T170000Z
DTEND:20260308T220000Z
LOCATION:Beverly Hills, CA 90210
TRANSP: OPAQUE
SEQUENCE:0
UID:
DTSTAMP:20260422T072855Z
SUMMARY:DISCOUNT SUNDAY BEVERLY HILLS ESTATE SALE
DESCRIPTION:DISCOUNT SUNDAY BEVERLY HILLS ESTATE SALE Hidden Treasure Estate Sales 
UID:1776864535
STREET-ADDRESS:See website
POSTAL-CODE:90210
LOCALITY:Beverly Hills
REGION:ABBREV=CA
COUNTRY:ABBREV=US;ABBREV=USA:United States
URL;TYPE=Event Listing:https://estatesales.org/estate-sales/ca/beverly-hills/90210/discount-sunday-beverly-hills-estate-2426558
PRIORITY:1
CLASS:PUBLIC
SEQUENCE:0
STATUS:CONFIRMED
TRANSP:OPAQUE
END:VEVENT
END:VCALENDAR
