BEGIN:VCALENDAR
VERSION:2.0
METHOD:PUBLISH
BEGIN:VEVENT
DTSTART:20260307T170000Z
DTEND:20260308T200000Z
LOCATION:Santa Clarita, CA 91321
TRANSP: OPAQUE
SEQUENCE:0
UID:
DTSTAMP:20260420T194457Z
SUMMARY:Grasons Premier 50% Off Sunday “A Sale with Heart” Estate Sale in the Friendly Valley Community of Santa Clarita
DESCRIPTION:Grasons Premier 50% Off Sunday “A Sale with Heart” Estate Sale in the Friendly Valley Community of Santa Clarita Grasons Co Premier High Desert 
UID:1776735897
STREET-ADDRESS:See website
POSTAL-CODE:91321
LOCALITY:Santa Clarita
REGION:ABBREV=CA
COUNTRY:ABBREV=US;ABBREV=USA:United States
URL;TYPE=Event Listing:https://estatesales.org/estate-sales/ca/santa-clarita/91321/grasons-premier-a-sale-with-2428109
PRIORITY:1
CLASS:PUBLIC
SEQUENCE:0
STATUS:CONFIRMED
TRANSP:OPAQUE
END:VEVENT
END:VCALENDAR
