BEGIN:VCALENDAR
VERSION:2.0
METHOD:PUBLISH
BEGIN:VEVENT
DTSTART:20260307T160000Z
DTEND:20260308T200000Z
LOCATION:Bakersfield, CA 93308
TRANSP: OPAQUE
SEQUENCE:0
UID:
DTSTAMP:20260422T120329Z
SUMMARY:Ewe-Nique 🐑 Estate Sale - Norris/Fruitvale
DESCRIPTION:Ewe-Nique 🐑 Estate Sale - Norris/Fruitvale Complete Estate Management 
UID:1776881009
STREET-ADDRESS:See website
POSTAL-CODE:93308
LOCALITY:Bakersfield
REGION:ABBREV=CA
COUNTRY:ABBREV=US;ABBREV=USA:United States
URL;TYPE=Event Listing:https://estatesales.org/estate-sales/ca/bakersfield/93308/ewenique-estate-sale-norrisfruitvale-2428098
PRIORITY:1
CLASS:PUBLIC
SEQUENCE:0
STATUS:CONFIRMED
TRANSP:OPAQUE
END:VEVENT
END:VCALENDAR
