BEGIN:VCALENDAR
VERSION:2.0
METHOD:PUBLISH
BEGIN:VEVENT
DTSTART:20260307T160000Z
DTEND:20260308T200000Z
LOCATION:Hacienda Heights, CA 91745
TRANSP: OPAQUE
SEQUENCE:0
UID:
DTSTAMP:20260422T055041Z
SUMMARY:50 % OFF MOST ON SUN ! Hacienda Heights Estate Sale - By Heritage
DESCRIPTION:50 % OFF MOST ON SUN ! Hacienda Heights Estate Sale - By Heritage Heritage Estate Services 
UID:1776858641
STREET-ADDRESS:See website
POSTAL-CODE:91745
LOCALITY:Hacienda Heights
REGION:ABBREV=CA
COUNTRY:ABBREV=US;ABBREV=USA:United States
URL;TYPE=Event Listing:https://estatesales.org/estate-sales/ca/hacienda-heights/91745/50-off-most-on-sun-2421965
PRIORITY:1
CLASS:PUBLIC
SEQUENCE:0
STATUS:CONFIRMED
TRANSP:OPAQUE
END:VEVENT
END:VCALENDAR
