BEGIN:VCALENDAR
VERSION:2.0
METHOD:PUBLISH
BEGIN:VEVENT
DTSTART:20260307T082600Z
DTEND:20260310T030000Z
LOCATION:Arlington Heights, IL 60005
TRANSP: OPAQUE
SEQUENCE:0
UID:
DTSTAMP:20260421T105230Z
SUMMARY:Vintage, Collectibles, Guitars, Sports Cards, New Merch, Etc
DESCRIPTION:Vintage, Collectibles, Guitars, Sports Cards, New Merch, Etc Denotter Auctions 
UID:1776790350
STREET-ADDRESS:See website
POSTAL-CODE:60005
LOCALITY:Arlington Heights
REGION:ABBREV=IL
COUNTRY:ABBREV=US;ABBREV=USA:United States
URL;TYPE=Event Listing:https://estatesales.org/estate-sales/il/arlington-heights/60005/vintage-collectibles-guitars-sports-cards-2428646
PRIORITY:1
CLASS:PUBLIC
SEQUENCE:0
STATUS:CONFIRMED
TRANSP:OPAQUE
END:VEVENT
END:VCALENDAR
