BEGIN:VCALENDAR
VERSION:2.0
METHOD:PUBLISH
BEGIN:VEVENT
DTSTART:20250307T180000Z
DTEND:20250308T230000Z
LOCATION:Palos Verdes Peninsula, CA 90274
TRANSP: OPAQUE
SEQUENCE:0
UID:
DTSTAMP:20260420T024504Z
SUMMARY:*50% Off Saturday - Last Chance
DESCRIPTION:*50% Off Saturday - Last Chance Diamond Heirlooms Estate Sales & Consulting  LLC 
UID:1776674704
STREET-ADDRESS:See website
POSTAL-CODE:90274
LOCALITY:Palos Verdes Peninsula
REGION:ABBREV=CA
COUNTRY:ABBREV=US;ABBREV=USA:United States
URL;TYPE=Event Listing:https://estatesales.org/estate-sales/ca/palos-verdes-peninsula/90274/glory-palos-verdes-estates-2364648
PRIORITY:1
CLASS:PUBLIC
SEQUENCE:0
STATUS:CONFIRMED
TRANSP:OPAQUE
END:VEVENT
END:VCALENDAR
