BEGIN:VCALENDAR
VERSION:2.0
METHOD:PUBLISH
BEGIN:VEVENT
DTSTART:20250307T140000Z
DTEND:20250309T170000Z
LOCATION:Brewerton, NY 13029
TRANSP: OPAQUE
SEQUENCE:0
UID:
DTSTAMP:20260423T074749Z
SUMMARY:Brewerton Estate Sale
DESCRIPTION:Brewerton Estate Sale Clear Horizon Estate Services 
UID:1776952069
STREET-ADDRESS:See website
POSTAL-CODE:13029
LOCALITY:Brewerton
REGION:ABBREV=NY
COUNTRY:ABBREV=US;ABBREV=USA:United States
URL;TYPE=Event Listing:https://estatesales.org/estate-sales/ny/brewerton-/13029/brewerton-estate-sale-2364856
PRIORITY:1
CLASS:PUBLIC
SEQUENCE:0
STATUS:CONFIRMED
TRANSP:OPAQUE
END:VEVENT
END:VCALENDAR
