BEGIN:VCALENDAR
VERSION:2.0
METHOD:PUBLISH
BEGIN:VEVENT
DTSTART:20250307T150000Z
DTEND:20250308T220000Z
LOCATION:Neenah, WI 54956
TRANSP: OPAQUE
SEQUENCE:0
UID:
DTSTAMP:20260424T213716Z
SUMMARY:NEENAH, ESTATE SALE BY THE " Estate Sale Squad". Friday, March 7, 9 to 5, Saturday March,8, 9 to 4
DESCRIPTION:NEENAH, ESTATE SALE BY THE " Estate Sale Squad". Friday, March 7, 9 to 5, Saturday March,8, 9 to 4 Estate Sale Squad LLC 
UID:1777088236
STREET-ADDRESS:See website
POSTAL-CODE:54956
LOCALITY:Neenah
REGION:ABBREV=WI
COUNTRY:ABBREV=US;ABBREV=USA:United States
URL;TYPE=Event Listing:https://estatesales.org/estate-sales/wi/neenah/54956/neenah-estate-sale-by-the-2365053
PRIORITY:1
CLASS:PUBLIC
SEQUENCE:0
STATUS:CONFIRMED
TRANSP:OPAQUE
END:VEVENT
END:VCALENDAR
