BEGIN:VCALENDAR
VERSION:2.0
METHOD:PUBLISH
BEGIN:VEVENT
DTSTART:20260306T180000Z
DTEND:20260309T000000Z
LOCATION:Martinez, CA 94553
TRANSP: OPAQUE
SEQUENCE:0
UID:
DTSTAMP:20260423T062235Z
SUMMARY:Le Marche Emporium - March 6, 7, and 8 from 10am-5pm
DESCRIPTION:Le Marche Emporium - March 6, 7, and 8 from 10am-5pm Le Marche Emporium 
UID:1776946955
STREET-ADDRESS:See website
POSTAL-CODE:94553
LOCALITY:Martinez
REGION:ABBREV=CA
COUNTRY:ABBREV=US;ABBREV=USA:United States
URL;TYPE=Event Listing:https://estatesales.org/estate-sales/ca/martinez/94553/le-marche-emporium-march-6-2428237
PRIORITY:1
CLASS:PUBLIC
SEQUENCE:0
STATUS:CONFIRMED
TRANSP:OPAQUE
END:VEVENT
END:VCALENDAR
