BEGIN:VCALENDAR
VERSION:2.0
METHOD:PUBLISH
BEGIN:VEVENT
DTSTART:20260306T180000Z
DTEND:20260308T230000Z
LOCATION:Burlingame, CA 94010
TRANSP: OPAQUE
SEQUENCE:0
UID:
DTSTAMP:20260419T054019Z
SUMMARY:Burlingames Hidden Gem Estate Sale! SUNDAY BLOWOUT SALE!
DESCRIPTION:Burlingames Hidden Gem Estate Sale! SUNDAY BLOWOUT SALE! Timeless Selection 
UID:1776598819
STREET-ADDRESS:See website
POSTAL-CODE:94010
LOCALITY:Burlingame
REGION:ABBREV=CA
COUNTRY:ABBREV=US;ABBREV=USA:United States
URL;TYPE=Event Listing:https://estatesales.org/estate-sales/ca/burlingame/94010/burlingames-hidden-gem-estate-sale-2427964
PRIORITY:1
CLASS:PUBLIC
SEQUENCE:0
STATUS:CONFIRMED
TRANSP:OPAQUE
END:VEVENT
END:VCALENDAR
