BEGIN:VCALENDAR
VERSION:2.0
METHOD:PUBLISH
BEGIN:VEVENT
DTSTART:20260306T180000Z
DTEND:20260308T220000Z
LOCATION:Sunnyvale, CA 94085
TRANSP: OPAQUE
SEQUENCE:0
UID:
DTSTAMP:20260423T044306Z
SUMMARY:SUNNYVALE THREE DAY ESTAT SALE - FRI, SAT & SUN - MARCH 6, 7 & 8 - 10AM TO 3PM
DESCRIPTION:SUNNYVALE THREE DAY ESTAT SALE - FRI, SAT & SUN - MARCH 6, 7 & 8 - 10AM TO 3PM Family Treasures Estate Liquidators 
UID:1776940986
STREET-ADDRESS:See website
POSTAL-CODE:94085
LOCALITY:Sunnyvale
REGION:ABBREV=CA
COUNTRY:ABBREV=US;ABBREV=USA:United States
URL;TYPE=Event Listing:https://estatesales.org/estate-sales/ca/sunnyvale/94085/sunnyvale-three-day-estat-sale-2428104
PRIORITY:1
CLASS:PUBLIC
SEQUENCE:0
STATUS:CONFIRMED
TRANSP:OPAQUE
END:VEVENT
END:VCALENDAR
