BEGIN:VCALENDAR
VERSION:2.0
METHOD:PUBLISH
BEGIN:VEVENT
DTSTART:20260306T170000Z
DTEND:20260308T223000Z
LOCATION:Bakersfield, CA 93308
TRANSP: OPAQUE
SEQUENCE:0
UID:
DTSTAMP:20260422T062334Z
SUMMARY:Lovely furnished home
DESCRIPTION:Lovely furnished home All About You Liquidation 
UID:1776860614
STREET-ADDRESS:See website
POSTAL-CODE:93308
LOCALITY:Bakersfield
REGION:ABBREV=CA
COUNTRY:ABBREV=US;ABBREV=USA:United States
URL;TYPE=Event Listing:https://estatesales.org/estate-sales/ca/bakersfield-/93308/lovely-furnished-home-2428175
PRIORITY:1
CLASS:PUBLIC
SEQUENCE:0
STATUS:CONFIRMED
TRANSP:OPAQUE
END:VEVENT
END:VCALENDAR
