BEGIN:VCALENDAR
VERSION:2.0
METHOD:PUBLISH
BEGIN:VEVENT
DTSTART:20260306T140000Z
DTEND:20260308T190000Z
LOCATION:Paramus, NJ 07652
TRANSP: OPAQUE
SEQUENCE:0
UID:
DTSTAMP:20260423T130242Z
SUMMARY:Town & Country Estate Sales
DESCRIPTION:Town & Country Estate Sales Town & Country Estate & Moving Sales 
UID:1776970962
STREET-ADDRESS:See website
POSTAL-CODE:07652
LOCALITY:Paramus
REGION:ABBREV=NJ
COUNTRY:ABBREV=US;ABBREV=USA:United States
URL;TYPE=Event Listing:https://estatesales.org/estate-sales/nj/paramus/07652/town-country-estate-sales-2428018
PRIORITY:1
CLASS:PUBLIC
SEQUENCE:0
STATUS:CONFIRMED
TRANSP:OPAQUE
END:VEVENT
END:VCALENDAR
