BEGIN:VCALENDAR
VERSION:2.0
METHOD:PUBLISH
BEGIN:VEVENT
DTSTART:20260306T170000Z
DTEND:20260308T220000Z
LOCATION:Chula Vista, CA 91911
TRANSP: OPAQUE
SEQUENCE:0
UID:
DTSTAMP:20260420T181154Z
SUMMARY:Beautiful Chula Vista estate with so many treasures
DESCRIPTION:Beautiful Chula Vista estate with so many treasures Clark Prestige Estate Sale 
UID:1776730314
STREET-ADDRESS:See website
POSTAL-CODE:91911
LOCALITY:Chula Vista
REGION:ABBREV=CA
COUNTRY:ABBREV=US;ABBREV=USA:United States
URL;TYPE=Event Listing:https://estatesales.org/estate-sales/ca/chula-vista/91911/beautiful-chula-vista-estate-with-2426762
PRIORITY:1
CLASS:PUBLIC
SEQUENCE:0
STATUS:CONFIRMED
TRANSP:OPAQUE
END:VEVENT
END:VCALENDAR
