BEGIN:VCALENDAR
VERSION:2.0
METHOD:PUBLISH
BEGIN:VEVENT
DTSTART:20260306T170000Z
DTEND:20260308T210000Z
LOCATION:Pasadena, CA 91103
TRANSP: OPAQUE
SEQUENCE:0
UID:
DTSTAMP:20260422T084605Z
SUMMARY:Pasadena
DESCRIPTION:Pasadena Indianoaksestatesales 
UID:1776869165
STREET-ADDRESS:See website
POSTAL-CODE:91103
LOCALITY:Pasadena
REGION:ABBREV=CA
COUNTRY:ABBREV=US;ABBREV=USA:United States
URL;TYPE=Event Listing:https://estatesales.org/estate-sales/ca/pasadena/91103/pasadena-2428461
PRIORITY:1
CLASS:PUBLIC
SEQUENCE:0
STATUS:CONFIRMED
TRANSP:OPAQUE
END:VEVENT
END:VCALENDAR
