BEGIN:VCALENDAR
VERSION:2.0
METHOD:PUBLISH
BEGIN:VEVENT
DTSTART:20260306T150000Z
DTEND:20260307T220000Z
LOCATION:Middleton, WI 53562
TRANSP: OPAQUE
SEQUENCE:0
UID:
DTSTAMP:20260424T200454Z
SUMMARY:Middleton Estate Sale Fri 3/6 - Sat 3/7
DESCRIPTION:Middleton Estate Sale Fri 3/6 - Sat 3/7 Barth Estate Sales & Services LLC 
UID:1777082694
STREET-ADDRESS:See website
POSTAL-CODE:53562
LOCALITY:Middleton
REGION:ABBREV=WI
COUNTRY:ABBREV=US;ABBREV=USA:United States
URL;TYPE=Event Listing:https://estatesales.org/estate-sales/wi/middleton/53562/middleton-estate-sale-fri-36-2427787
PRIORITY:1
CLASS:PUBLIC
SEQUENCE:0
STATUS:CONFIRMED
TRANSP:OPAQUE
END:VEVENT
END:VCALENDAR
