BEGIN:VCALENDAR
VERSION:2.0
METHOD:PUBLISH
BEGIN:VEVENT
DTSTART:20260306T140000Z
DTEND:20260307T210000Z
LOCATION:Zephyrhills, FL 33541
TRANSP: OPAQUE
SEQUENCE:0
UID:
DTSTAMP:20260423T083541Z
SUMMARY:V Patton Estates ZHills Lake Bernedette Asian Decor Plants & Pots Galore, Ladies Designer Clothes
DESCRIPTION:V Patton Estates ZHills Lake Bernedette Asian Decor Plants & Pots Galore, Ladies Designer Clothes V Patton Estate Sale Options 
UID:1776954941
STREET-ADDRESS:See website
POSTAL-CODE:33541
LOCALITY:Zephyrhills
REGION:ABBREV=FL
COUNTRY:ABBREV=US;ABBREV=USA:United States
URL;TYPE=Event Listing:https://estatesales.org/estate-sales/fl/zephyrhills/33541/v-patton-estates-zhills-lake-2427645
PRIORITY:1
CLASS:PUBLIC
SEQUENCE:0
STATUS:CONFIRMED
TRANSP:OPAQUE
END:VEVENT
END:VCALENDAR
