BEGIN:VCALENDAR
VERSION:2.0
METHOD:PUBLISH
BEGIN:VEVENT
DTSTART:20260306T150000Z
DTEND:20260307T210000Z
LOCATION:Lake Villa, IL 60046
TRANSP: OPAQUE
SEQUENCE:0
UID:
DTSTAMP:20260423T043233Z
SUMMARY:1/2 OFF everything mcm sewing & crafts gammil long arm quilting gammill viking sewing machine & more
DESCRIPTION:1/2 OFF everything mcm sewing & crafts gammil long arm quilting gammill viking sewing machine & more Trinity Estate Sales 
UID:1776940353
STREET-ADDRESS:See website
POSTAL-CODE:60046
LOCALITY:Lake Villa
REGION:ABBREV=IL
COUNTRY:ABBREV=US;ABBREV=USA:United States
URL;TYPE=Event Listing:https://estatesales.org/estate-sales/il/lake-villa/60046/mcm-sewing-and-crafts-gammil-2425950
PRIORITY:1
CLASS:PUBLIC
SEQUENCE:0
STATUS:CONFIRMED
TRANSP:OPAQUE
END:VEVENT
END:VCALENDAR
