BEGIN:VCALENDAR
VERSION:2.0
METHOD:PUBLISH
BEGIN:VEVENT
DTSTART:20260306T170000Z
DTEND:20260307T230000Z
LOCATION:Whittier, CA 90605
TRANSP: OPAQUE
SEQUENCE:0
UID:
DTSTAMP:20260420T002650Z
SUMMARY:Blw out: records, coins, jewelry plants, construction material, tool box, clothes, dishes, washer/ dryer,
DESCRIPTION:Blw out: records, coins, jewelry plants, construction material, tool box, clothes, dishes, washer/ dryer, HRURCollections Estate services /consulting 
UID:1776666410
STREET-ADDRESS:See website
POSTAL-CODE:90605
LOCALITY:Whittier
REGION:ABBREV=CA
COUNTRY:ABBREV=US;ABBREV=USA:United States
URL;TYPE=Event Listing:https://estatesales.org/estate-sales/ca/whittier/90605/blw-out-records-coins-jewelry-2425370
PRIORITY:1
CLASS:PUBLIC
SEQUENCE:0
STATUS:CONFIRMED
TRANSP:OPAQUE
END:VEVENT
END:VCALENDAR
