BEGIN:VCALENDAR
VERSION:2.0
METHOD:PUBLISH
BEGIN:VEVENT
DTSTART:20260306T140000Z
DTEND:20260307T190000Z
LOCATION:Winter Park, FL 32792
TRANSP: OPAQUE
SEQUENCE:0
UID:
DTSTAMP:20260421T101343Z
SUMMARY:Posh Peacock is in Winter Park - antiques & decor
DESCRIPTION:Posh Peacock is in Winter Park - antiques & decor Posh Peacock Estate Sales 
UID:1776788023
STREET-ADDRESS:See website
POSTAL-CODE:32792
LOCALITY:Winter Park
REGION:ABBREV=FL
COUNTRY:ABBREV=US;ABBREV=USA:United States
URL;TYPE=Event Listing:https://estatesales.org/estate-sales/fl/winter-park/32792/posh-peacock-is-in-winter-2427685
PRIORITY:1
CLASS:PUBLIC
SEQUENCE:0
STATUS:CONFIRMED
TRANSP:OPAQUE
END:VEVENT
END:VCALENDAR
