BEGIN:VCALENDAR
VERSION:2.0
METHOD:PUBLISH
BEGIN:VEVENT
DTSTART:20260306T140000Z
DTEND:20260306T200000Z
LOCATION:Hamden, CT 06517
TRANSP: OPAQUE
SEQUENCE:0
UID:
DTSTAMP:20260421T182059Z
SUMMARY:Historic Tad Jones Family Estate Sale One Day Only Friday 3/6 9AM to 3PM
DESCRIPTION:Historic Tad Jones Family Estate Sale One Day Only Friday 3/6 9AM to 3PM Caring Transitions of Milford 
UID:1776817259
STREET-ADDRESS:See website
POSTAL-CODE:06517
LOCALITY:Hamden
REGION:ABBREV=CT
COUNTRY:ABBREV=US;ABBREV=USA:United States
URL;TYPE=Event Listing:https://estatesales.org/estate-sales/ct/hamden/06517/historic-tad-jones-family-estate-2425762
PRIORITY:1
CLASS:PUBLIC
SEQUENCE:0
STATUS:CONFIRMED
TRANSP:OPAQUE
END:VEVENT
END:VCALENDAR
