BEGIN:VCALENDAR
VERSION:2.0
METHOD:PUBLISH
BEGIN:VEVENT
DTSTART:20260306T170000Z
DTEND:20260306T210000Z
LOCATION:Byron, CA 94505
TRANSP: OPAQUE
SEQUENCE:0
UID:
DTSTAMP:20260423T062912Z
SUMMARY:One Day Moving Sale, Lot of Smalls and New In Package Items FRIDAY ONLY
DESCRIPTION:One Day Moving Sale, Lot of Smalls and New In Package Items FRIDAY ONLY J and C Estate Sales 
UID:1776947352
STREET-ADDRESS:See website
POSTAL-CODE:94505
LOCALITY:Byron
REGION:ABBREV=CA
COUNTRY:ABBREV=US;ABBREV=USA:United States
URL;TYPE=Event Listing:https://estatesales.org/estate-sales/ca/discovery-bay/94505/one-day-moving-sale-lot-2427688
PRIORITY:1
CLASS:PUBLIC
SEQUENCE:0
STATUS:CONFIRMED
TRANSP:OPAQUE
END:VEVENT
END:VCALENDAR
