BEGIN:VCALENDAR
VERSION:2.0
METHOD:PUBLISH
BEGIN:VEVENT
DTSTART:20250306T153000Z
DTEND:20250309T210000Z
LOCATION:Gilbert, AZ 85295
TRANSP: OPAQUE
SEQUENCE:0
UID:
DTSTAMP:20260424T125535Z
SUMMARY:Grasons of Gilbert 4 day sale in Gilbert (Cooley Station)
DESCRIPTION:Grasons of Gilbert 4 day sale in Gilbert (Cooley Station) Grasons of Gilbert, AZ 
UID:1777056935
STREET-ADDRESS:See website
POSTAL-CODE:85295
LOCALITY:Gilbert
REGION:ABBREV=AZ
COUNTRY:ABBREV=US;ABBREV=USA:United States
URL;TYPE=Event Listing:https://estatesales.org/estate-sales/az/gilbert/85295/grasons-of-gilbert-4-day-2364356
PRIORITY:1
CLASS:PUBLIC
SEQUENCE:0
STATUS:CONFIRMED
TRANSP:OPAQUE
END:VEVENT
END:VCALENDAR
