BEGIN:VCALENDAR
VERSION:2.0
METHOD:PUBLISH
BEGIN:VEVENT
DTSTART:20230306T230000Z
DTEND:20230307T040000Z
LOCATION:Blue Springs, MO 64014
TRANSP: OPAQUE
SEQUENCE:0
UID:
DTSTAMP:20260419T104715Z
SUMMARY:Monday night Auction 
DESCRIPTION:Monday night Auction  Midwest Auction All-Stars 
UID:1776617235
STREET-ADDRESS:See website
POSTAL-CODE:64014
LOCALITY:Blue Springs
REGION:ABBREV=MO
COUNTRY:ABBREV=US;ABBREV=USA:United States
URL;TYPE=Event Listing:https://estatesales.org/estate-sales/mo/blue-springs/64014/monday-night-auction-2154075
PRIORITY:1
CLASS:PUBLIC
SEQUENCE:0
STATUS:CONFIRMED
TRANSP:OPAQUE
END:VEVENT
END:VCALENDAR
