BEGIN:VCALENDAR
VERSION:2.0
METHOD:PUBLISH
BEGIN:VEVENT
DTSTART:20220306T150000Z
DTEND:20220308T230000Z
LOCATION:Sparks, NV 89436
TRANSP: OPAQUE
SEQUENCE:0
UID:
DTSTAMP:20260421T144549Z
SUMMARY:Very Fast Set Up for A Big Sale
DESCRIPTION:Very Fast Set Up for A Big Sale High Sierra Estate Liquidation, LLC 
UID:1776804349
STREET-ADDRESS:See website
POSTAL-CODE:89436
LOCALITY:Sparks
REGION:ABBREV=NV
COUNTRY:ABBREV=US;ABBREV=USA:United States
URL;TYPE=Event Listing:https://estatesales.org/estate-sales/nv/sparks/89436/very-fast-set-up-for-2014389
PRIORITY:1
CLASS:PUBLIC
SEQUENCE:0
STATUS:CONFIRMED
TRANSP:OPAQUE
END:VEVENT
END:VCALENDAR
