BEGIN:VCALENDAR
VERSION:2.0
METHOD:PUBLISH
BEGIN:VEVENT
DTSTART:20210306T170000Z
DTEND:20210306T230000Z
LOCATION:Studio City, CA 91604
TRANSP: OPAQUE
SEQUENCE:0
UID:
DTSTAMP:20260420T012553Z
SUMMARY:Blow Out Pricing One Day Event- All Must Go!
DESCRIPTION:Blow Out Pricing One Day Event- All Must Go! Triumphant Estate Sales of Los Angeles 
UID:1776669953
STREET-ADDRESS:See website
POSTAL-CODE:91604
LOCALITY:Studio City
REGION:ABBREV=CA
COUNTRY:ABBREV=US;ABBREV=USA:United States
URL;TYPE=Event Listing:https://estatesales.org/estate-sales/ca/studio-city/91604/blow-out-pricing-one-day-1875455
PRIORITY:1
CLASS:PUBLIC
SEQUENCE:0
STATUS:CONFIRMED
TRANSP:OPAQUE
END:VEVENT
END:VCALENDAR
